BEGIN:VCALENDAR
VERSION:2.0
PRODID:-//wp-events-plugin.com//7.2.3.1//EN
TZID:America/Detroit
X-WR-TIMEZONE:America/Detroit
BEGIN:VEVENT
UID:17410@stgeraldparish.org
DTSTART:20260410T153000Z
DTEND:20260605T170000Z
DTSTAMP:20260305T220209Z
URL:https://stgeraldparish.org/events/spring-scripture-study/
SUMMARY:Spring Scripture Study
DESCRIPTION:St. Gerald invites you to meet us in the social hall Fridays 10
 :30 am - 12:00 pm for an 8-session course on Mary\, the Mother of God in S
 acred Scripture\, presented by Esam Naoum. The program begins Friday\, Apr
 il 10 and runs through June 5 (No session May 15).\n\nRSVP here or to Emil
 y Long at faithformation.sgp@gmail.com or 248.476.7677 x201\n\nCoffee and 
 cookies will be served. Bibles are available. All are welcome to attend\; 
 bring your friends!
CATEGORIES:Events
END:VEVENT
END:VCALENDAR