BEGIN:VCALENDAR
VERSION:2.0
PRODID:-//wp-events-plugin.com//7.2.3.1//EN
TZID:America/Detroit
X-WR-TIMEZONE:America/Detroit
BEGIN:VEVENT
UID:17453@stgeraldparish.org
DTSTART:20260403T193000Z
DTEND:20260403T203000Z
DTSTAMP:20260303T141003Z
URL:https://stgeraldparish.org/events/private-veneration/
SUMMARY:Private Veneration
DESCRIPTION:
CATEGORIES:Devotions
END:VEVENT
END:VCALENDAR