BEGIN:VCALENDAR
VERSION:2.0
PRODID:-//wp-events-plugin.com//7.2.3.1//EN
TZID:America/Detroit
X-WR-TIMEZONE:America/Detroit
BEGIN:VEVENT
UID:19647@stgeraldparish.org
DTSTART:20260412T143000Z
DTEND:20260412T170000Z
DTSTAMP:20260318T131156Z
URL:https://stgeraldparish.org/events/knights-of-columbus-pancake-breakfas
 t/
SUMMARY:Knights of Columbus Pancake Breakfast
DESCRIPTION:
CATEGORIES:Events
END:VEVENT
END:VCALENDAR