BEGIN:VCALENDAR
VERSION:2.0
PRODID:-//wp-events-plugin.com//7.2.3.1//EN
TZID:America/Detroit
X-WR-TIMEZONE:America/Detroit
BEGIN:VEVENT
UID:17340@stgeraldparish.org
DTSTART:20251203T000000Z
DTEND:20251203T010000Z
DTSTAMP:20251126T191344Z
URL:https://stgeraldparish.org/events/knights-of-columbus-mtg/
SUMMARY:Knights of Columbus Mtg
DESCRIPTION:
END:VEVENT
END:VCALENDAR