BEGIN:VCALENDAR
VERSION:2.0
PRODID:-//wp-events-plugin.com//7.2.3.1//EN
TZID:America/Detroit
X-WR-TIMEZONE:America/Detroit
BEGIN:VEVENT
UID:17378@stgeraldparish.org
DTSTART:20260201T043000Z
DTEND:20260201T070000Z
DTSTAMP:20260126T184703Z
URL:https://stgeraldparish.org/events/k-of-c-pancake-breakfast/
SUMMARY:K of C Pancake Breakfast
DESCRIPTION:
CATEGORIES:Events
END:VEVENT
END:VCALENDAR