BEGIN:VCALENDAR
VERSION:2.0
PRODID:-//wp-events-plugin.com//7.2.3.1//EN
TZID:America/Detroit
X-WR-TIMEZONE:America/Detroit
BEGIN:VEVENT
UID:17448@stgeraldparish.org
DTSTART:20260403T170000Z
DTEND:20260403T174500Z
DTSTAMP:20260303T140610Z
URL:https://stgeraldparish.org/events/good-friday/
SUMMARY:Stations of the Cross
DESCRIPTION:
CATEGORIES:Devotions
END:VEVENT
END:VCALENDAR