BEGIN:VCALENDAR
VERSION:2.0
PRODID:-//wp-events-plugin.com//7.2.3.1//EN
TZID:America/Detroit
X-WR-TIMEZONE:America/Detroit
BEGIN:VEVENT
UID:17383@stgeraldparish.org
DTSTART:20260203T141500Z
DTEND:20260203T144500Z
DTSTAMP:20260128T192026Z
URL:https://stgeraldparish.org/events/feast-of-st-blaise-blessing-of-throa
 ts/
SUMMARY:Feast of St. Blaise - Blessing of Throats
DESCRIPTION:
END:VEVENT
END:VCALENDAR