BEGIN:VCALENDAR
VERSION:2.0
PRODID:-//wp-events-plugin.com//7.2.3.1//EN
TZID:America/Detroit
X-WR-TIMEZONE:America/Detroit
BEGIN:VEVENT
UID:17449@stgeraldparish.org
DTSTART:20260405T013000Z
DTEND:20260405T030000Z
DTSTAMP:20260303T134145Z
URL:https://stgeraldparish.org/events/easter-vigil/
SUMMARY:Easter Vigil
DESCRIPTION:
CATEGORIES:Mass
END:VEVENT
END:VCALENDAR