BEGIN:VCALENDAR
VERSION:2.0
PRODID:-//wp-events-plugin.com//7.2.3.1//EN
TZID:America/Detroit
X-WR-TIMEZONE:America/Detroit
BEGIN:VEVENT
UID:6298@stgeraldparish.org
DTSTART:20251225T050000Z
DTEND:20251225T060000Z
DTSTAMP:20251125T150459Z
URL:https://stgeraldparish.org/events/christmas-eve-childrens-mass-copy-co
 py/
SUMMARY:Christmas Eve Midnight Mass
DESCRIPTION:
CATEGORIES:Mass
END:VEVENT
END:VCALENDAR